BEGIN:VCALENDAR
VERSION:2.0
PRODID:-//Best BCA College in Patna | Top BBA College in Patna - Dr. Zakir Husain Institute - ECPv6.15.20//NONSGML v1.0//EN
CALSCALE:GREGORIAN
METHOD:PUBLISH
X-ORIGINAL-URL:https://zhi.edu.in
X-WR-CALDESC:Events for Best BCA College in Patna | Top BBA College in Patna - Dr. Zakir Husain Institute
REFRESH-INTERVAL;VALUE=DURATION:PT1H
X-Robots-Tag:noindex
X-PUBLISHED-TTL:PT1H
BEGIN:VTIMEZONE
TZID:UTC
BEGIN:STANDARD
TZOFFSETFROM:+0000
TZOFFSETTO:+0000
TZNAME:UTC
DTSTART:20230101T000000
END:STANDARD
END:VTIMEZONE
BEGIN:VTIMEZONE
TZID:Asia/Kolkata
BEGIN:STANDARD
TZOFFSETFROM:+0530
TZOFFSETTO:+0530
TZNAME:IST
DTSTART:20230101T000000
END:STANDARD
END:VTIMEZONE
BEGIN:VEVENT
DTSTART;TZID=UTC:20240316T100000
DTEND;TZID=UTC:20240316T130000
DTSTAMP:20260419T162031
CREATED:20240407T194702Z
LAST-MODIFIED:20240407T194702Z
UID:15789-1710583200-1710594000@zhi.edu.in
SUMMARY:Biz-War EDP Workshop
DESCRIPTION:Exciting Announcement: Biz-War! 🚀 \nHello aspiring entrepreneurs and future game-changers! \n🗓 Date: March 16\, 2024 \n🕛 Time: 12pm Onwards \n📍 Venue: IIBM Auditorium\, Patna \nGet ready to embark on a journey of innovation and entrepreneurship with ‘Biz-War’: The Entrepreneurship Development Program by CED Patna. 🚀 \nInspired by initiatives like ‘Start-Up India’ and ‘Stand-Up India’\, this workshop is your gateway to success. \nUnleash your business ideas! 💡 Register by filling up this form (You may also submit your startup idea here): https://forms.gle/h3AeQ64bcjp97b1Z9 \n🌐 Join us for: \n• Detailed Entrepreneurship Modules \n• Business Pitch Training \n• Launch Strategy Insights \n• Business Plan Competition \nLet’s shape the future together! 🌟
URL:https://zhi.edu.in/event/biz-war-edp-workshop/
LOCATION:IIBM Auditorium\, India
ATTACH;FMTTYPE=image/jpeg:https://zhi.edu.in/wp-content/uploads/2019/11/edp.jpeg
ORGANIZER;CN="CED IIBM":MAILTO:info@yourmail.com
END:VEVENT
BEGIN:VEVENT
DTSTART;VALUE=DATE:20240309
DTEND;VALUE=DATE:20240310
DTSTAMP:20260419T162031
CREATED:20221116T001904Z
LAST-MODIFIED:20240406T031936Z
UID:10248-1709942400-1710028799@zhi.edu.in
SUMMARY:Battlegrounds Mobile India Tournament
DESCRIPTION:📣 Calling all gamers at IIBM Campus! \n🎮 Prepare yourselves for an adrenaline-fueled extravaganza on March 9th\, 2024\, as we host our highly-anticipated esports tournament! It’s time to unleash your gaming skills and dive headfirst into the competitive world of Battleground Mobile India. Whether you’re a seasoned competitor or a newcomer eager to make your mark\, this tournament is your chance to shine. Gather your friends\, form your teams\, and get ready to battle it out in thrilling matches that will keep you on the edge of your seat. Register Now – https://forms.gle/yYPt8JNm3kwDrjFV9Limited Seats Available! In the heart of our campus\, amidst the cheers and excitement\, you’ll experience the thrill of victory and the agony of defeat as you vie for supremacy. But it’s not just about winning – it’s about the camaraderie\, the passion for gaming\, and the unforgettable memories you’ll create. So\, mark your calendars\, sharpen your skills\, and join us for a day of epic gaming action at the IIBM eSports Tournament.
URL:https://zhi.edu.in/event/bgmi/
LOCATION:IIBM Auditorium\, India
ATTACH;FMTTYPE=image/jpeg:https://zhi.edu.in/wp-content/uploads/2022/11/bgmi.jpeg
ORGANIZER;CN="CED IIBM":MAILTO:info@yourmail.com
END:VEVENT
BEGIN:VEVENT
DTSTART;VALUE=DATE:20240306
DTEND;VALUE=DATE:20240307
DTSTAMP:20260419T162031
CREATED:20180108T231804Z
LAST-MODIFIED:20240406T032909Z
UID:76-1709683200-1709769599@zhi.edu.in
SUMMARY:Join Voting Awareness Campaign!
DESCRIPTION:Join the Voting Awareness Campaign! 🎉 \nZHI Students\, \nStep up and make a difference! We’re inviting you to be part of our Voting Awareness Campaign. Share your creativity and passion for democracy by participating in activities : Digital Content\, Debate\, Quiz\, Essay Writing (Max 300 words)\, Extempore\, Poetry/Rap\, Battle of Bands\, and Voters Pledge activities. \n(You can participate in one or more than one activities.) \n📅 Date: 06-03-2024 \n🕒 Time: 12:45 pm onwards (Revised) \n📍 Venue: ZHI Boring Road Auditorium \nUpload your content in google form: https://bit.ly/ecimyvotemyduty with #ChunavKaParv\, #DeshKaGarv\, #IVoteForSure and \n#MeraPehlaVoteDeshKeLiye. Let’s amplify our impact! \nLet’s vote together!
URL:https://zhi.edu.in/event/voting/
LOCATION:ZHI Auditorium Boring Road\, India
ATTACH;FMTTYPE=image/jpeg:https://zhi.edu.in/wp-content/uploads/2018/01/voting.jpeg
ORGANIZER;CN="ZHI Admin":MAILTO:info@yourmail.com
END:VEVENT
BEGIN:VEVENT
DTSTART;VALUE=DATE:20240304
DTEND;VALUE=DATE:20240305
DTSTAMP:20260419T162031
CREATED:20221116T101849Z
LAST-MODIFIED:20240406T032535Z
UID:8033-1709510400-1709596799@zhi.edu.in
SUMMARY:Final Round of Vigyanotsav 2024
DESCRIPTION:Dear ZHI Students\,We’re thrilled to invite you to the Final round of VIGYANOTSAV 2024: Celebrating India’s Indigenous Ingenuity in Science and Technology!Date & Time: 4th March (Monday)\, 11:00 AM 📍 Venue: IIBM AuditoriumJoin us for an engaging showcase of creativity and innovation as participants present their research papers\, essays\, and low-cost scientific models\, celebrating India’s scientific brilliance. The event aims to recognize and honor our country’s scientific heritage and encourage the spirit of innovation among our talented students.Agenda:✨ Presentations & Exhibitions: Participants will showcase their research papers\, essays\, and low-cost scientific models at the IIBM Auditorium. The best presenters will receive certificates of excellence!🧠 Quiz Competition: A thrilling science quiz based on indigenous technology for IIBM students! Test your knowledge and stand a chance to win exciting awards.Let’s come together to support our fellow students\, celebrate scientific achievement\, and foster a love for innovation. Don’t miss out on this exciting opportunity to be a part of VIGYANOTSAV 2024!🎉 See you there!
URL:https://zhi.edu.in/event/vigyanotsav24/
LOCATION:IIBM Auditorium\, India
ATTACH;FMTTYPE=image/jpeg:https://zhi.edu.in/wp-content/uploads/2022/11/vigyan.jpeg
ORGANIZER;CN="CED IIBM":MAILTO:info@yourmail.com
END:VEVENT
END:VCALENDAR